BEGIN:VCALENDAR
VERSION:2.0
PRODID:-//ICC - ECPv6.15.17.1//NONSGML v1.0//EN
CALSCALE:GREGORIAN
METHOD:PUBLISH
X-WR-CALNAME:ICC
X-ORIGINAL-URL:https://www.iccsafe.org
X-WR-CALDESC:Events for ICC
REFRESH-INTERVAL;VALUE=DURATION:PT1H
X-Robots-Tag:noindex
X-PUBLISHED-TTL:PT1H
BEGIN:VTIMEZONE
TZID:America/Chicago
BEGIN:DAYLIGHT
TZOFFSETFROM:-0600
TZOFFSETTO:-0500
TZNAME:CDT
DTSTART:20220313T080000
END:DAYLIGHT
BEGIN:STANDARD
TZOFFSETFROM:-0500
TZOFFSETTO:-0600
TZNAME:CST
DTSTART:20221106T070000
END:STANDARD
BEGIN:DAYLIGHT
TZOFFSETFROM:-0600
TZOFFSETTO:-0500
TZNAME:CDT
DTSTART:20230312T080000
END:DAYLIGHT
BEGIN:STANDARD
TZOFFSETFROM:-0500
TZOFFSETTO:-0600
TZNAME:CST
DTSTART:20231105T070000
END:STANDARD
BEGIN:DAYLIGHT
TZOFFSETFROM:-0600
TZOFFSETTO:-0500
TZNAME:CDT
DTSTART:20240310T080000
END:DAYLIGHT
BEGIN:STANDARD
TZOFFSETFROM:-0500
TZOFFSETTO:-0600
TZNAME:CST
DTSTART:20241103T070000
END:STANDARD
END:VTIMEZONE
BEGIN:VEVENT
DTSTART;TZID=America/Chicago:20231113T120000
DTEND;TZID=America/Chicago:20231113T140000
DTSTAMP:20260422T013726
CREATED:20231019T200622Z
LAST-MODIFIED:20231019T200622Z
UID:548666-1699876800-1699884000@www.iccsafe.org
SUMMARY:ICC 605 IS-MHRRC Committee Meeting
DESCRIPTION:Multi-Hazard Resiliency for Residential Construction (IS-MHRRC) Committee \nThe purpose of this virtual meeting is for the IS-MHRRC committee to discuss the development of the new ICC 605 standard. \n  \nJoin meeting from link \nhttps://iccsafe.webex.com/meet/kenstrom08 \n  \nJoin meeting by access number \nMeeting number (access code): 498 398 134 \n  \nTap to join from a mobile device (attendees only) \n+1-844-740-1264\,\,498398134## USA Toll Free\n+1-415-655-0003\,\,498398134## US Toll\n\n\nJoin by phone\n1-844-740-1264 USA Toll Free\n+1-415-655-0003US Toll\n\nGlobal call-in numbers|Toll-free calling restrictions\n\n 
URL:https://www.iccsafe.org/news-and-events-calendar/icc-605-is-mhrrc-committee-meeting-8/
CATEGORIES:Codes & Standards Calendar
END:VEVENT
END:VCALENDAR