BEGIN:VCALENDAR
VERSION:2.0
PRODID:-//ICC - ECPv6.15.17.1//NONSGML v1.0//EN
CALSCALE:GREGORIAN
METHOD:PUBLISH
X-WR-CALNAME:ICC
X-ORIGINAL-URL:https://www.iccsafe.org
X-WR-CALDESC:Events for ICC
REFRESH-INTERVAL;VALUE=DURATION:PT1H
X-Robots-Tag:noindex
X-PUBLISHED-TTL:PT1H
BEGIN:VTIMEZONE
TZID:America/Chicago
BEGIN:DAYLIGHT
TZOFFSETFROM:-0600
TZOFFSETTO:-0500
TZNAME:CDT
DTSTART:20220313T080000
END:DAYLIGHT
BEGIN:STANDARD
TZOFFSETFROM:-0500
TZOFFSETTO:-0600
TZNAME:CST
DTSTART:20221106T070000
END:STANDARD
BEGIN:DAYLIGHT
TZOFFSETFROM:-0600
TZOFFSETTO:-0500
TZNAME:CDT
DTSTART:20230312T080000
END:DAYLIGHT
BEGIN:STANDARD
TZOFFSETFROM:-0500
TZOFFSETTO:-0600
TZNAME:CST
DTSTART:20231105T070000
END:STANDARD
BEGIN:DAYLIGHT
TZOFFSETFROM:-0600
TZOFFSETTO:-0500
TZNAME:CDT
DTSTART:20240310T080000
END:DAYLIGHT
BEGIN:STANDARD
TZOFFSETFROM:-0500
TZOFFSETTO:-0600
TZNAME:CST
DTSTART:20241103T070000
END:STANDARD
END:VTIMEZONE
BEGIN:VEVENT
DTSTART;TZID=America/Chicago:20231116T120000
DTEND;TZID=America/Chicago:20231116T120000
DTSTAMP:20260422T013346
CREATED:20230918T203047Z
LAST-MODIFIED:20230918T203153Z
UID:546864-1700136000-1700136000@www.iccsafe.org
SUMMARY:What You Need to Know about the New Energy Standard for Commercial Buildings: ASHRAE Standard 90.1-2022
DESCRIPTION:Back by Popular Demand: BECP Energy Code Webinar Series!\n________________________________________\nPlease join the DOE Building Energy Codes Program for the 2023-2024 Energy Code Webinar Series! This monthly webinar series\, regularly scheduled for the third Thursday of every month at 1 pm (Eastern)\, will provide an opportunity to learn\, discuss\, and engage on timely and important energy code topics throughout the year. Each monthly webinar will be presented across a range of engaging formats\, from topic-based lectures to expert panels and interactive discussions. \nContinuing Education\nAIA and ICC continuing education credits will be offered for the live events. Instructions for requesting certificates of completion will be provided at the end of each live seminar. \nRegister here.
URL:https://www.iccsafe.org/news-and-events-calendar/what-you-need-to-know-about-the-new-energy-standard-for-commercial-buildings-ashrae-standard-90-1-2022/
END:VEVENT
END:VCALENDAR