BEGIN:VCALENDAR
VERSION:2.0
PRODID:-//ICC - ECPv6.15.17.1//NONSGML v1.0//EN
CALSCALE:GREGORIAN
METHOD:PUBLISH
X-ORIGINAL-URL:https://www.iccsafe.org
X-WR-CALDESC:Events for ICC
REFRESH-INTERVAL;VALUE=DURATION:PT1H
X-Robots-Tag:noindex
X-PUBLISHED-TTL:PT1H
BEGIN:VTIMEZONE
TZID:America/Chicago
BEGIN:DAYLIGHT
TZOFFSETFROM:-0600
TZOFFSETTO:-0500
TZNAME:CDT
DTSTART:20240310T080000
END:DAYLIGHT
BEGIN:STANDARD
TZOFFSETFROM:-0500
TZOFFSETTO:-0600
TZNAME:CST
DTSTART:20241103T070000
END:STANDARD
BEGIN:DAYLIGHT
TZOFFSETFROM:-0600
TZOFFSETTO:-0500
TZNAME:CDT
DTSTART:20250309T080000
END:DAYLIGHT
BEGIN:STANDARD
TZOFFSETFROM:-0500
TZOFFSETTO:-0600
TZNAME:CST
DTSTART:20251102T070000
END:STANDARD
BEGIN:DAYLIGHT
TZOFFSETFROM:-0600
TZOFFSETTO:-0500
TZNAME:CDT
DTSTART:20260308T080000
END:DAYLIGHT
BEGIN:STANDARD
TZOFFSETFROM:-0500
TZOFFSETTO:-0600
TZNAME:CST
DTSTART:20261101T070000
END:STANDARD
END:VTIMEZONE
BEGIN:VEVENT
DTSTART;TZID=America/Chicago:20250204T110000
DTEND;TZID=America/Chicago:20250204T130000
DTSTAMP:20260422T183024
CREATED:20250203T172155Z
LAST-MODIFIED:20250203T172155Z
UID:579431-1738666800-1738674000@www.iccsafe.org
SUMMARY:Load Path\, Load Combinations and Risk Categories
DESCRIPTION:This webinar covers basic load paths and load combinations used in allowable stress design and strength design. Also discussed are risk categories assigned to buildings for load determination based on hazard to life. This webinar is based on the 2024 International Building Code® (IBC®) and the IBC-referenced 2022 ASCE/SEI 7 Minimum Design Loads and Associated Criteria for Buildings and Other Structures (ASCE 7-22). The discussion of load path and load combinations is geared to new engineers\, architects\, and code officials. The discussion of risk categories should be of interest to all audiences. \nRegister here.  \n11:00 AM – 1:00 PM PT
URL:https://www.iccsafe.org/news-and-events-calendar/load-path-load-combinations-and-risk-categories/
CATEGORIES:Education Calendar
ORGANIZER;CN="S. K. Ghosh Associates":MAILTO:kbhaumik@skghoshassociates.com
END:VEVENT
BEGIN:VEVENT
DTSTART;TZID=America/Chicago:20250204T120000
DTEND;TZID=America/Chicago:20250204T140000
DTSTAMP:20260422T183024
CREATED:20241219T160647Z
LAST-MODIFIED:20241219T160647Z
UID:577481-1738670400-1738677600@www.iccsafe.org
SUMMARY:Plumbing\, Mechanical and Fuel Gas Code Action Committee Meeting
DESCRIPTION:Discussion of topics for PMGCAC proposals\n\n\n\n  \nMeeting Link: \nJoin the meeting now\nOR \nDial in by phone \n1-469-848-0134 \nPhone conference ID: 914 374 938# \n12:00 PM – 2:00 PM EST
URL:https://www.iccsafe.org/news-and-events-calendar/plumbing-mechanical-and-fuel-gas-code-action-committee-meeting-2/
CATEGORIES:Codes & Standards Calendar
ORGANIZER;CN="Fred Grable":MAILTO:fgrable@iccsafe.org
END:VEVENT
END:VCALENDAR