BEGIN:VCALENDAR
VERSION:2.0
PRODID:-//ICC - ECPv6.15.17.1//NONSGML v1.0//EN
CALSCALE:GREGORIAN
METHOD:PUBLISH
X-ORIGINAL-URL:https://www.iccsafe.org
X-WR-CALDESC:Events for ICC
REFRESH-INTERVAL;VALUE=DURATION:PT1H
X-Robots-Tag:noindex
X-PUBLISHED-TTL:PT1H
BEGIN:VTIMEZONE
TZID:America/Chicago
BEGIN:DAYLIGHT
TZOFFSETFROM:-0600
TZOFFSETTO:-0500
TZNAME:CDT
DTSTART:20240310T080000
END:DAYLIGHT
BEGIN:STANDARD
TZOFFSETFROM:-0500
TZOFFSETTO:-0600
TZNAME:CST
DTSTART:20241103T070000
END:STANDARD
BEGIN:DAYLIGHT
TZOFFSETFROM:-0600
TZOFFSETTO:-0500
TZNAME:CDT
DTSTART:20250309T080000
END:DAYLIGHT
BEGIN:STANDARD
TZOFFSETFROM:-0500
TZOFFSETTO:-0600
TZNAME:CST
DTSTART:20251102T070000
END:STANDARD
BEGIN:DAYLIGHT
TZOFFSETFROM:-0600
TZOFFSETTO:-0500
TZNAME:CDT
DTSTART:20260308T080000
END:DAYLIGHT
BEGIN:STANDARD
TZOFFSETFROM:-0500
TZOFFSETTO:-0600
TZNAME:CST
DTSTART:20261101T070000
END:STANDARD
END:VTIMEZONE
BEGIN:VEVENT
DTSTART;TZID=America/Chicago:20250403T110000
DTEND;TZID=America/Chicago:20250403T130000
DTSTAMP:20260422T164853
CREATED:20250327T145757Z
LAST-MODIFIED:20250327T145757Z
UID:583329-1743678000-1743685200@www.iccsafe.org
SUMMARY:Tilt-Up Wall Design Provisions: Proper Application
DESCRIPTION:With over a half a billion square feet of space constructed annually\, tilt-up concrete construction is a common building type in engineering offices across the nation. This economical style of construction is uniquely identified by the very slender concrete walls cast horizontally and tilted into place. This web-seminar presentation revisits the historical development of the original slender wall design recommendations in the late 1970s\, and how the current slender wall design provisions in ACI match with concepts developed over 30 years ago. While these original concepts were based on empirical data from full-scale tests conducted in the early 1980s\, only within the last ten years have we really begun to fully understand the behavior of these thin concrete members when subjected to combined axial load and large horizontal forces. The intent of the current code provisions will be discussed\, some insight into their proper application will be provided\, and examples of misapplications and gray-areas will be highlighted. \nThe web seminar will also include three question-and-answer periods. \nRegister here.  \n11:00 AM – 1:00 PM PT
URL:https://www.iccsafe.org/news-and-events-calendar/tilt-up-wall-design-provisions-proper-application/
CATEGORIES:Education Calendar
ORGANIZER;CN="S. K. Ghosh Associates":MAILTO:kbhaumik@skghoshassociates.com
END:VEVENT
BEGIN:VEVENT
DTSTART;TZID=America/Chicago:20250403T140000
DTEND;TZID=America/Chicago:20250403T150000
DTSTAMP:20260422T164853
CREATED:20250307T192545Z
LAST-MODIFIED:20250307T192545Z
UID:581943-1743688800-1743692400@www.iccsafe.org
SUMMARY:Building Safety Month 2025: Everything You Need to Know
DESCRIPTION:Code Council members are invited to join us for a webinar that will help prepare you for a successful Building Safety Month celebration in your community. Our expert panel will host a discussion covering:    \n1. What’s new for 2025\n2. Building Safety Month website and where to find useful member resources \n3. Tips for hosting community events\, creating social media campaigns\, accessing teacher outlines and more \n4. Lego prize giveaway for the Building Safety Month competition \n5. Q&A session to address your questions  \nRegister here.  \n2:00 PM – 3:00 PM EST
URL:https://www.iccsafe.org/news-and-events-calendar/building-safety-month-2025-everything-you-need-to-know/
CATEGORIES:Building Safety Month Calendar
END:VEVENT
END:VCALENDAR