BEGIN:VCALENDAR
VERSION:2.0
PRODID:-//ICC - ECPv6.15.17.1//NONSGML v1.0//EN
CALSCALE:GREGORIAN
METHOD:PUBLISH
X-WR-CALNAME:ICC
X-ORIGINAL-URL:https://www.iccsafe.org
X-WR-CALDESC:Events for ICC
REFRESH-INTERVAL;VALUE=DURATION:PT1H
X-Robots-Tag:noindex
X-PUBLISHED-TTL:PT1H
BEGIN:VTIMEZONE
TZID:America/Chicago
BEGIN:DAYLIGHT
TZOFFSETFROM:-0600
TZOFFSETTO:-0500
TZNAME:CDT
DTSTART:20240310T080000
END:DAYLIGHT
BEGIN:STANDARD
TZOFFSETFROM:-0500
TZOFFSETTO:-0600
TZNAME:CST
DTSTART:20241103T070000
END:STANDARD
BEGIN:DAYLIGHT
TZOFFSETFROM:-0600
TZOFFSETTO:-0500
TZNAME:CDT
DTSTART:20250309T080000
END:DAYLIGHT
BEGIN:STANDARD
TZOFFSETFROM:-0500
TZOFFSETTO:-0600
TZNAME:CST
DTSTART:20251102T070000
END:STANDARD
BEGIN:DAYLIGHT
TZOFFSETFROM:-0600
TZOFFSETTO:-0500
TZNAME:CDT
DTSTART:20260308T080000
END:DAYLIGHT
BEGIN:STANDARD
TZOFFSETFROM:-0500
TZOFFSETTO:-0600
TZNAME:CST
DTSTART:20261101T070000
END:STANDARD
END:VTIMEZONE
BEGIN:VEVENT
DTSTART;VALUE=DATE:20250426
DTEND;VALUE=DATE:20250507
DTSTAMP:20260422T223217
CREATED:20241203T170938Z
LAST-MODIFIED:20250422T143833Z
UID:576752-1745625600-1746575999@www.iccsafe.org
SUMMARY:ICC Leadership Week
DESCRIPTION:
URL:https://www.iccsafe.org/news-and-events-calendar/icc-leadership-week-2025-committee-action-hearings-group-b-1/
LOCATION:DoubleTree at the entrance to Universal Orlando\, 5780 Major Blvd\, Orlando\, FL\, 32819\, United States
END:VEVENT
BEGIN:VEVENT
DTSTART;TZID=America/Chicago:20250429T110000
DTEND;TZID=America/Chicago:20250429T130000
DTSTAMP:20260422T223217
CREATED:20250327T174247Z
LAST-MODIFIED:20250327T174247Z
UID:583348-1745924400-1745931600@www.iccsafe.org
SUMMARY:Mat Foundation Design
DESCRIPTION:During this seminar\, Ian McFarlane will discuss design of mat foundations and soil-structure interaction. The session will describe the uses of mat foundations\, historical perspectives that have led to the current procedures\, and discuss soil properties and soil-structure interaction. Guidance will be provided for proportioning\, analysis\, and design for mat foundations. Code requirements and accepted approaches to their implementation will also be addressed\, with additional discussion on best practices that go beyond code minimum requirements. Finally\, detailing and constructability tips will be presented. The scope of this session will include design of mat foundations for both non-seismic and high-seismic conditions. \nRegister here.  \n11:00 AM – 1:00 PM PT
URL:https://www.iccsafe.org/news-and-events-calendar/mat-foundation-design-2/
CATEGORIES:Education Calendar
ORGANIZER;CN="S. K. Ghosh Associates":MAILTO:kbhaumik@skghoshassociates.com
END:VEVENT
END:VCALENDAR