BEGIN:VCALENDAR
VERSION:2.0
PRODID:-//ICC - ECPv6.15.17.1//NONSGML v1.0//EN
CALSCALE:GREGORIAN
METHOD:PUBLISH
X-ORIGINAL-URL:https://www.iccsafe.org
X-WR-CALDESC:Events for ICC
REFRESH-INTERVAL;VALUE=DURATION:PT1H
X-Robots-Tag:noindex
X-PUBLISHED-TTL:PT1H
BEGIN:VTIMEZONE
TZID:America/New_York
BEGIN:DAYLIGHT
TZOFFSETFROM:-0500
TZOFFSETTO:-0400
TZNAME:EDT
DTSTART:20230312T070000
END:DAYLIGHT
BEGIN:STANDARD
TZOFFSETFROM:-0400
TZOFFSETTO:-0500
TZNAME:EST
DTSTART:20231105T060000
END:STANDARD
BEGIN:DAYLIGHT
TZOFFSETFROM:-0500
TZOFFSETTO:-0400
TZNAME:EDT
DTSTART:20240310T070000
END:DAYLIGHT
BEGIN:STANDARD
TZOFFSETFROM:-0400
TZOFFSETTO:-0500
TZNAME:EST
DTSTART:20241103T060000
END:STANDARD
BEGIN:DAYLIGHT
TZOFFSETFROM:-0500
TZOFFSETTO:-0400
TZNAME:EDT
DTSTART:20250309T070000
END:DAYLIGHT
BEGIN:STANDARD
TZOFFSETFROM:-0400
TZOFFSETTO:-0500
TZNAME:EST
DTSTART:20251102T060000
END:STANDARD
END:VTIMEZONE
BEGIN:VEVENT
DTSTART;TZID=America/New_York:20240207T140000
DTEND;TZID=America/New_York:20240207T150000
DTSTAMP:20260422T015458
CREATED:20231113T204812Z
LAST-MODIFIED:20231116T183844Z
UID:550059-1707314400-1707318000@www.iccsafe.org
SUMMARY:Sustainability\, Energy\, & High Performing Buildings Code Action Committee Meeting
DESCRIPTION:2:00 pm- 3:00 pm EST \nMicrosoft Teams meeting \nJoin on your computer\, mobile app or room device \nClick here to join the meeting \nMeeting ID: 288 149 167 277\nPasscode: jb2cKn \nDownload Teams | Join on the web \nOr call in (audio only) \n+1 469-848-0134\,\,518188610#   United States\, Dallas \nPhone Conference ID: 518 188 610# \nFind a local number | Reset PIN
URL:https://www.iccsafe.org/news-and-events-calendar/webinar-part-1-sustainability-energy-high-performing-buildings-code-action-committee-meeting/
CATEGORIES:Codes & Standards Calendar
ORGANIZER;CN="Kristopher Stenger":MAILTO:kstenger@iccsafe.org
END:VEVENT
END:VCALENDAR