BEGIN:VCALENDAR
VERSION:2.0
PRODID:-//ICC - ECPv6.15.17.1//NONSGML v1.0//EN
CALSCALE:GREGORIAN
METHOD:PUBLISH
X-ORIGINAL-URL:https://www.iccsafe.org
X-WR-CALDESC:Events for ICC
REFRESH-INTERVAL;VALUE=DURATION:PT1H
X-Robots-Tag:noindex
X-PUBLISHED-TTL:PT1H
BEGIN:VTIMEZONE
TZID:America/New_York
BEGIN:DAYLIGHT
TZOFFSETFROM:-0500
TZOFFSETTO:-0400
TZNAME:EDT
DTSTART:20250309T070000
END:DAYLIGHT
BEGIN:STANDARD
TZOFFSETFROM:-0400
TZOFFSETTO:-0500
TZNAME:EST
DTSTART:20251102T060000
END:STANDARD
BEGIN:DAYLIGHT
TZOFFSETFROM:-0500
TZOFFSETTO:-0400
TZNAME:EDT
DTSTART:20260308T070000
END:DAYLIGHT
BEGIN:STANDARD
TZOFFSETFROM:-0400
TZOFFSETTO:-0500
TZNAME:EST
DTSTART:20261101T060000
END:STANDARD
BEGIN:DAYLIGHT
TZOFFSETFROM:-0500
TZOFFSETTO:-0400
TZNAME:EDT
DTSTART:20270314T070000
END:DAYLIGHT
BEGIN:STANDARD
TZOFFSETFROM:-0400
TZOFFSETTO:-0500
TZNAME:EST
DTSTART:20271107T060000
END:STANDARD
END:VTIMEZONE
BEGIN:VEVENT
DTSTART;VALUE=DATE:20260112
DTEND;VALUE=DATE:20260213
DTSTAMP:20260423T063636
CREATED:20260115T182205Z
LAST-MODIFIED:20260115T182446Z
UID:623227-1768176000-1770940799@www.iccsafe.org
SUMMARY:Public Comment Period - 2030 International Energy Conservation Code®
DESCRIPTION:The ICC Board has established a new framework for developing the 2030 International Energy Conservation Code® (IECC®) that moves its content into two documents\, the IECC and IECC Expanded. This split ensures that ICC continues to develop energy codes that meet the varied needs of jurisdictions in the U.S. and around the globe. \nThe intent of the IECC is to establish minimum requirements for the energy-efficient design and construction of buildings\, focused on initial construction costs and the operational energy performance of the building. \nThe intent of the IECC Expanded (IECCX) is to provide additive requirements that provide market-driven\, enforceable requirements that achieve a reasonable level of energy efficiency that is safe\, technologically feasible\, and life cycle cost effective\, considering economic feasibility\, including potential costs and savings for consumers and building owners\, and return on investment. \nThe IECC Expanded may include optional or mandatory provisions incorporating additional energy efficiency and greenhouse gas reduction resources and provisions that lead to achievement of zero energy buildings. The IECC Expanded will provide reasonable compliance options for all energy sources in common use\, while allowing requirements to reflect evolving technologies and practices. \nTo view the proposed 2030 IECC/IRC Chapter 11/IECC Expanded (IECCX) Scope and Intent draft document\, click here. \nHow to Submit Public Comments \nWe welcome your comments on the proposed 2030 IECC/IRC Chapter 11/IECC Expanded (IECCX) Scope and Intent draft document. Please submit your comments through this form by 11:59 pm Pacific Time on February 15\, 2026.   
URL:https://www.iccsafe.org/news-and-events-calendar/public-comment-period-2030-international-energy-conservation-code/
CATEGORIES:Codes & Standards Calendar
END:VEVENT
BEGIN:VEVENT
DTSTART;TZID=America/New_York:20260114T140000
DTEND;TZID=America/New_York:20260114T153000
DTSTAMP:20260423T063636
CREATED:20251204T210656Z
LAST-MODIFIED:20251204T210656Z
UID:621500-1768399200-1768404600@www.iccsafe.org
SUMMARY:Sustainability\, Energy & High Performance Building Code Action Committee (SEHPCAC) Monthly Meeting
DESCRIPTION:Microsoft Teams Meeting Link \nJoin the meeting now \nOr call in (audio only) \n+1 469-848-0134\,\,906167809# United States\, Seagoville  \nFor further information be sure to visit the SEHPCAC landing page. \n 
URL:https://www.iccsafe.org/news-and-events-calendar/sustainability-energy-high-performance-building-code-action-committee-sehpcac-monthly-meeting/
CATEGORIES:Codes & Standards Calendar
ORGANIZER;CN="Jason Toves":MAILTO:jtoves@iccsafe.org
END:VEVENT
BEGIN:VEVENT
DTSTART;VALUE=DATE:20260215
DTEND;VALUE=DATE:20260216
DTSTAMP:20260423T063636
CREATED:20260115T182620Z
LAST-MODIFIED:20260115T184927Z
UID:623229-1771113600-1771199999@www.iccsafe.org
SUMMARY:Deadline for Public Comments Requested on the 2030 International Energy Conservation Code
DESCRIPTION:To view the proposed 2030 IECC/IRC Chapter 11/IECC Expanded (IECCX) Scope and Intent draft document\, click here.   \nHow to Submit Public Comments \nWe welcome your comments on the proposed 2030 IECC/IRC Chapter 11/IECC Expanded (IECCX) Scope and Intent draft document. Please submit your comments through this form by 11:59 pm Pacific Time on February 15\, 2026.   
URL:https://www.iccsafe.org/news-and-events-calendar/deadline-for-public-comments-requested-on-the-2030-international-energy-conservation-code/
CATEGORIES:Codes & Standards Calendar
END:VEVENT
BEGIN:VEVENT
DTSTART;TZID=America/New_York:20260305T110000
DTEND;TZID=America/New_York:20260305T130000
DTSTAMP:20260423T063636
CREATED:20260304T210540Z
LAST-MODIFIED:20260304T211612Z
UID:626500-1772708400-1772715600@www.iccsafe.org
SUMMARY:ICCPC (Performance Code) Meeting
DESCRIPTION:Thursday\, March 5\, 2026\n11:00 am – 1:00 pm\n\nClick here to join the meeting\n\nMeeting ID: 242 385 869 703 33Passcode: f8XG3aV9
URL:https://www.iccsafe.org/news-and-events-calendar/iccpc-performance-code-13/
CATEGORIES:Codes & Standards Calendar
END:VEVENT
BEGIN:VEVENT
DTSTART;TZID=America/New_York:20260312T110000
DTEND;TZID=America/New_York:20260312T130000
DTSTAMP:20260423T063636
CREATED:20260304T211119Z
LAST-MODIFIED:20260304T211119Z
UID:626503-1773313200-1773320400@www.iccsafe.org
SUMMARY:ICCPC (Performance Code) Meeting
DESCRIPTION:Thursday\, March 12\, 2026\n11:00 am – 1:00 pm\n\nClick here to join the meeting\n\nMeeting ID: 242 385 869 703 33Passcode: f8XG3aV9\n\nThe purpose of this meeting is to develop a modern updated International Code-based option available to those interested in an updated performance based code.
URL:https://www.iccsafe.org/news-and-events-calendar/iccpc-performance-code-meeting/
CATEGORIES:Codes & Standards Calendar
END:VEVENT
BEGIN:VEVENT
DTSTART;TZID=America/New_York:20260319T110000
DTEND;TZID=America/New_York:20260319T130000
DTSTAMP:20260423T063636
CREATED:20260304T211722Z
LAST-MODIFIED:20260304T211722Z
UID:626506-1773918000-1773925200@www.iccsafe.org
SUMMARY:ICCPC (Performance Code) Meeting
DESCRIPTION:Thursday\, March 19\, 2026\n11:00 am – 1:00 pm\n\nClick here to join the meeting\n\nMeeting ID: 242 385 869 703 33Passcode: f8XG3aV9\n\nThe purpose of this meeting is to develop a modern updated International Code-based option available to those interested in an updated performance based code.
URL:https://www.iccsafe.org/news-and-events-calendar/iccpc-performance-code-meeting-2/
CATEGORIES:Codes & Standards Calendar
END:VEVENT
BEGIN:VEVENT
DTSTART;TZID=America/New_York:20260402T110000
DTEND;TZID=America/New_York:20260402T130000
DTSTAMP:20260423T063636
CREATED:20260330T214111Z
LAST-MODIFIED:20260330T214111Z
UID:628398-1775127600-1775134800@www.iccsafe.org
SUMMARY:ICC Performance Code (IS-ICCPC) Committee Meeting
DESCRIPTION:April 2. 2026\, 11:00 am Eastern \nJoin the meeting \nMeeting ID: 242 385 869 703 33\nPasscode: f8XG3aV9 \nThe purpose of this meeting is for the committee to discuss the development of the ICC Performance Code (IS-ICCPC) Consensus Standard. \nAn agenda will be posted on the ICC website prior to each meeting.\nThis meeting is open to the public. If you plan on attending\, please contact Scott W. Adams\, P.E. or Beth Tubbs\, P.E.\, FSFPE\, Project Managers\, for additional information. \nAgendas\, meeting minutes\, meeting materials and all other documents can be found on the ICC Performance Code (IS_ICCPC) Website.
URL:https://www.iccsafe.org/news-and-events-calendar/icc-performance-code-is-iccpc-committee-meeting/
CATEGORIES:Codes & Standards Calendar
END:VEVENT
BEGIN:VEVENT
DTSTART;TZID=America/New_York:20260409T110000
DTEND;TZID=America/New_York:20260409T130000
DTSTAMP:20260423T063636
CREATED:20260330T214250Z
LAST-MODIFIED:20260330T214250Z
UID:628400-1775732400-1775739600@www.iccsafe.org
SUMMARY:ICC PERFORMANCE CODE (IS-ICCPC) Committee Meeting
DESCRIPTION:April 9\, 2026\, 11:00 am Eastern \nJoin the meeting \nMeeting ID: 242 385 869 703 33\nPasscode: f8XG3aV9 \nThe purpose of this meeting is for the committee to discuss the development of the ICC Performance Code (IS-ICCPC) Consensus Standard. \nAn agenda will be posted on the ICC website prior to each meeting.\nThis meeting is open to the public. If you plan on attending\, please contact Scott W. Adams\, P.E. or Beth Tubbs\, P.E.\, FSFPE\, Project Managers\, for additional information. \nAgendas\, meeting minutes\, meeting materials and all other documents can be found on the ICC Performance Code (IS_ICCPC) Website.
URL:https://www.iccsafe.org/news-and-events-calendar/icc-performance-code-is-iccpc-committee-meeting-2/
CATEGORIES:Codes & Standards Calendar
END:VEVENT
BEGIN:VEVENT
DTSTART;TZID=America/New_York:20260417T130000
DTEND;TZID=America/New_York:20260417T143000
DTSTAMP:20260423T063636
CREATED:20260410T192447Z
LAST-MODIFIED:20260410T192447Z
UID:629255-1776430800-1776436200@www.iccsafe.org
SUMMARY:ICC Performance Code (ICCPC - SG01) Meeting (Process/Administrative)
DESCRIPTION:Friday April 17\, 2026| 1:00 PM – 2:30 PM Eastern \nMicrosoft Teams meeting\nJoin: https://teams.microsoft.com/meet/2348130692640?p=DS0Kf4ls6IV6zGCOdr\nMeeting ID: 234 813 069 264 0\nPasscode: xo7ge7kd
URL:https://www.iccsafe.org/news-and-events-calendar/icc-performance-code-iccpc-sg01-meeting-process-administrative/
CATEGORIES:Codes & Standards Calendar
END:VEVENT
BEGIN:VEVENT
DTSTART;TZID=America/New_York:20260424T130000
DTEND;TZID=America/New_York:20260424T143000
DTSTAMP:20260423T063636
CREATED:20260410T192626Z
LAST-MODIFIED:20260410T192846Z
UID:629258-1777035600-1777041000@www.iccsafe.org
SUMMARY:ICC Performance Code (ICCPC – SG01) Meeting (Process/Administrative)
DESCRIPTION:Friday April 24\, 2026| 1:00 PM – 2:30 PM Eastern \nMicrosoft Teams meeting\nJoin: https://teams.microsoft.com/meet/2348130692640?p=DS0Kf4ls6IV6zGCOdr\nMeeting ID: 234 813 069 264 0\nPasscode: xo7ge7kd
URL:https://www.iccsafe.org/news-and-events-calendar/icc-performance-code-iccpc-sg01-meeting-process-administrative-2/
CATEGORIES:Codes & Standards Calendar
END:VEVENT
BEGIN:VEVENT
DTSTART;TZID=America/New_York:20260501T130000
DTEND;TZID=America/New_York:20260501T143000
DTSTAMP:20260423T063636
CREATED:20260410T193108Z
LAST-MODIFIED:20260410T193108Z
UID:629263-1777640400-1777645800@www.iccsafe.org
SUMMARY:ICC Performance Code (ICCPC – SG01) Meeting (Process/Administrative)
DESCRIPTION:Friday\, May 1\, 2026| 1:00 PM – 2:30 PM Eastern \nMicrosoft Teams meeting\nJoin: https://teams.microsoft.com/meet/2348130692640?p=DS0Kf4ls6IV6zGCOdr\nMeeting ID: 234 813 069 264 0\nPasscode: xo7ge7kd
URL:https://www.iccsafe.org/news-and-events-calendar/icc-performance-code-iccpc-sg01-meeting-process-administrative-3/
CATEGORIES:Codes & Standards Calendar
END:VEVENT
BEGIN:VEVENT
DTSTART;TZID=America/New_York:20260507T110000
DTEND;TZID=America/New_York:20260507T140000
DTSTAMP:20260423T063636
CREATED:20260410T190752Z
LAST-MODIFIED:20260410T190752Z
UID:629247-1778151600-1778162400@www.iccsafe.org
SUMMARY:ICC Performance Code (IS-ICCPC) Committee Meeting
DESCRIPTION:May 7\, 2026 @ 11:00 am – 1:00 pm\n\n\n\nThursday\, May 7\, 2026\n11:00 am – 1:00 pm\n\nClick here to join the meeting\n\nMeeting ID: 242 385 869 703 33Passcode: f8XG3aV9\n\n\n\n\nThe purpose of this meeting is for the committee to discuss the development of the ICC Performance Code (IS-ICCPC) Consensus Standard. \nAn agenda will be posted on the ICC website prior to each meeting.\nThis meeting is open to the public. If you plan on attending\, please contact Scott W. Adams\, P.E. or Beth Tubbs\, P.E.\, FSFPE\, Project Managers\, for additional information. \nAgendas\, meeting minutes\, meeting materials and all other documents can be found on the ICC Performance Code (IS_ICCPC) Website.
URL:https://www.iccsafe.org/news-and-events-calendar/icc-performance-code-is-iccpc-committee-meeting-3/
CATEGORIES:Codes & Standards Calendar
END:VEVENT
BEGIN:VEVENT
DTSTART;TZID=America/New_York:20260514T110000
DTEND;TZID=America/New_York:20260514T130000
DTSTAMP:20260423T063636
CREATED:20260410T191128Z
LAST-MODIFIED:20260410T191208Z
UID:629249-1778756400-1778763600@www.iccsafe.org
SUMMARY:ICC Performance Code (IS-ICCPC) Committee Meeting
DESCRIPTION:Thursday\, May 14\, 2026\n11:00 am – 1:00 pm Eastern\n\nClick here to join the meeting\n\nMeeting ID: 242 385 869 703 33Passcode: f8XG3aV9\n\n\n\n\nThe purpose of this meeting is for the committee to discuss the development of the ICC Performance Code (IS-ICCPC) Consensus Standard. \nAn agenda will be posted on the ICC website prior to each meeting.\nThis meeting is open to the public. If you plan on attending\, please contact Scott W. Adams\, P.E. or Beth Tubbs\, P.E.\, FSFPE\, Project Managers\, for additional information. \nAgendas\, meeting minutes\, meeting materials and all other documents can be found on the ICC Performance Code (IS_ICCPC) Website.
URL:https://www.iccsafe.org/news-and-events-calendar/icc-performance-code-is-iccpc-committee-meeting-4/
CATEGORIES:Codes & Standards Calendar
END:VEVENT
BEGIN:VEVENT
DTSTART;TZID=America/New_York:20260515T130000
DTEND;TZID=America/New_York:20260515T143000
DTSTAMP:20260423T063636
CREATED:20260410T193321Z
LAST-MODIFIED:20260410T193321Z
UID:629267-1778850000-1778855400@www.iccsafe.org
SUMMARY:ICC Performance Code (ICCPC – SG01) Meeting (Process/Administrative)
DESCRIPTION:Friday May 15\, 2026| 1:00 PM – 2:30 PM Eastern \nMicrosoft Teams meeting\nJoin: https://teams.microsoft.com/meet/2348130692640?p=DS0Kf4ls6IV6zGCOdr\nMeeting ID: 234 813 069 264 0\nPasscode: xo7ge7kd
URL:https://www.iccsafe.org/news-and-events-calendar/icc-performance-code-iccpc-sg01-meeting-process-administrative-4/
CATEGORIES:Codes & Standards Calendar
END:VEVENT
BEGIN:VEVENT
DTSTART;TZID=America/New_York:20260521T110000
DTEND;TZID=America/New_York:20260521T140000
DTSTAMP:20260423T063636
CREATED:20260410T191641Z
LAST-MODIFIED:20260410T191641Z
UID:629251-1779361200-1779372000@www.iccsafe.org
SUMMARY:ICC Performance Code (IS-ICCPC) Committee Meeting
DESCRIPTION:Thursday\, May 21\, 2026\n11:00 am – 1:00 pm Eastern\n\nClick here to join the meeting\n\nMeeting ID: 242 385 869 703 33Passcode: f8XG3aV9\n\n\n\n\nThe purpose of this meeting is for the committee to discuss the development of the ICC Performance Code (IS-ICCPC) Consensus Standard. \nAn agenda will be posted on the ICC website prior to each meeting.\nThis meeting is open to the public. If you plan on attending\, please contact Scott W. Adams\, P.E. or Beth Tubbs\, P.E.\, FSFPE\, Project Managers\, for additional information. \nAgendas\, meeting minutes\, meeting materials and all other documents can be found on the ICC Performance Code (IS_ICCPC) Website.
URL:https://www.iccsafe.org/news-and-events-calendar/icc-performance-code-is-iccpc-committee-meeting-5/
CATEGORIES:Codes & Standards Calendar
END:VEVENT
END:VCALENDAR