BEGIN:VCALENDAR
VERSION:2.0
PRODID:-//ICC - ECPv6.15.17.1//NONSGML v1.0//EN
CALSCALE:GREGORIAN
METHOD:PUBLISH
X-ORIGINAL-URL:https://www.iccsafe.org
X-WR-CALDESC:Events for ICC
REFRESH-INTERVAL;VALUE=DURATION:PT1H
X-Robots-Tag:noindex
X-PUBLISHED-TTL:PT1H
BEGIN:VTIMEZONE
TZID:America/Chicago
BEGIN:DAYLIGHT
TZOFFSETFROM:-0600
TZOFFSETTO:-0500
TZNAME:CDT
DTSTART:20240310T080000
END:DAYLIGHT
BEGIN:STANDARD
TZOFFSETFROM:-0500
TZOFFSETTO:-0600
TZNAME:CST
DTSTART:20241103T070000
END:STANDARD
BEGIN:DAYLIGHT
TZOFFSETFROM:-0600
TZOFFSETTO:-0500
TZNAME:CDT
DTSTART:20250309T080000
END:DAYLIGHT
BEGIN:STANDARD
TZOFFSETFROM:-0500
TZOFFSETTO:-0600
TZNAME:CST
DTSTART:20251102T070000
END:STANDARD
BEGIN:DAYLIGHT
TZOFFSETFROM:-0600
TZOFFSETTO:-0500
TZNAME:CDT
DTSTART:20260308T080000
END:DAYLIGHT
BEGIN:STANDARD
TZOFFSETFROM:-0500
TZOFFSETTO:-0600
TZNAME:CST
DTSTART:20261101T070000
END:STANDARD
END:VTIMEZONE
BEGIN:VTIMEZONE
TZID:America/New_York
BEGIN:DAYLIGHT
TZOFFSETFROM:-0500
TZOFFSETTO:-0400
TZNAME:EDT
DTSTART:20240310T070000
END:DAYLIGHT
BEGIN:STANDARD
TZOFFSETFROM:-0400
TZOFFSETTO:-0500
TZNAME:EST
DTSTART:20241103T060000
END:STANDARD
BEGIN:DAYLIGHT
TZOFFSETFROM:-0500
TZOFFSETTO:-0400
TZNAME:EDT
DTSTART:20250309T070000
END:DAYLIGHT
BEGIN:STANDARD
TZOFFSETFROM:-0400
TZOFFSETTO:-0500
TZNAME:EST
DTSTART:20251102T060000
END:STANDARD
BEGIN:DAYLIGHT
TZOFFSETFROM:-0500
TZOFFSETTO:-0400
TZNAME:EDT
DTSTART:20260308T070000
END:DAYLIGHT
BEGIN:STANDARD
TZOFFSETFROM:-0400
TZOFFSETTO:-0500
TZNAME:EST
DTSTART:20261101T060000
END:STANDARD
END:VTIMEZONE
BEGIN:VEVENT
DTSTART;TZID=America/Chicago:20250818T140000
DTEND;TZID=America/Chicago:20250818T150000
DTSTAMP:20260423T062225
CREATED:20250416T173403Z
LAST-MODIFIED:20250416T173403Z
UID:585144-1755525600-1755529200@www.iccsafe.org
SUMMARY:Virtual CCC Monthly Meeting
DESCRIPTION:Microsoft Teams\nJoin the meeting now\nMeeting ID: 245 693 923 11\nPasscode: DZ2AH7Sa \n2:00 PM – 3:00 PM CT
URL:https://www.iccsafe.org/news-and-events-calendar/virtual-ccc-monthly-meeting-5/
CATEGORIES:Codes & Standards Calendar
END:VEVENT
BEGIN:VEVENT
DTSTART;TZID=America/Chicago:20250820T123000
DTEND;TZID=America/Chicago:20250820T133000
DTSTAMP:20260423T062225
CREATED:20250807T153239Z
LAST-MODIFIED:20250807T153239Z
UID:593398-1755693000-1755696600@www.iccsafe.org
SUMMARY:ICC CAC Coordination Committee Meeting
DESCRIPTION:Microsoft Teams Need help?Join the meeting nowMeeting ID: 281 287 433 794 9Passcode: Uu63js6U \nDial in by phone+1 469-848-0134\,\,296942645# United States\, SeagovilleFind a local numberPhone conference ID: 296 942 645#
URL:https://www.iccsafe.org/news-and-events-calendar/icc-cac-coordination-committee-meeting/
CATEGORIES:Codes & Standards Calendar
END:VEVENT
BEGIN:VEVENT
DTSTART;TZID=America/Chicago:20250821T100000
DTEND;TZID=America/Chicago:20250821T113000
DTSTAMP:20260423T062225
CREATED:20241205T200408Z
LAST-MODIFIED:20241205T200408Z
UID:576857-1755770400-1755775800@www.iccsafe.org
SUMMARY:ICCPC (Performance Code)
DESCRIPTION:The purpose of this meeting is to develop a modern updated International Code-based option available to those interested in an updated performance based code. \nMicrosoft Teams meeting \nJoin on your computer\, mobile app or room device \nClick here to join the meeting \nMeeting ID: 259 268 394 168\nPasscode: sisZYx \nDownload Teams | Join on the web \nLearn More | Meeting options \n  \n10:00 Am – 11:30 AM CT
URL:https://www.iccsafe.org/news-and-events-calendar/iccpc-performance-code-8/
CATEGORIES:Codes & Standards Calendar
ORGANIZER;CN="Scott W. Adams":MAILTO:sadams@iccsafe.org
END:VEVENT
BEGIN:VEVENT
DTSTART;VALUE=DATE:20250829
DTEND;VALUE=DATE:20251030
DTSTAMP:20260423T062225
CREATED:20250828T202931Z
LAST-MODIFIED:20250828T203000Z
UID:595796-1756425600-1761782399@www.iccsafe.org
SUMMARY:2027 ICC Performance Code (ICCPC) Public Input
DESCRIPTION:In accordance with the International Code Council’s Consensus Procedures (ANSI)\,the initial draft of the ICC Performance Code (ICCPC)\, is available for public input for a period of 60 days starting August 29\, 2025 and ending October 29\, 2025. \nTo view the initial draft\, click here. \nChanges may be submitted to the initial draft of the 2027 ICCPC here.
URL:https://www.iccsafe.org/news-and-events-calendar/icc-performance-code-iccpc-public-input/
CATEGORIES:Codes & Standards Calendar
END:VEVENT
BEGIN:VEVENT
DTSTART;TZID=America/Chicago:20250903T130000
DTEND;TZID=America/Chicago:20250903T140000
DTSTAMP:20260423T062225
CREATED:20250826T203354Z
LAST-MODIFIED:20250826T203354Z
UID:595447-1756904400-1756908000@www.iccsafe.org
SUMMARY:ICC CAC Coordination Committee
DESCRIPTION:Microsoft Teams Need help?Join the meeting nowMeeting ID: 281 287 433 794 9Passcode: Uu63js6U \nDial in by phone+1 469-848-0134\,\,296942645# United States\, SeagovilleFind a local numberPhone conference ID: 296 942 645#1:00 PM EDT | September 3\, 2025
URL:https://www.iccsafe.org/news-and-events-calendar/icc-cac-coordination-committee/
CATEGORIES:Codes & Standards Calendar
END:VEVENT
BEGIN:VEVENT
DTSTART;TZID=America/Chicago:20250903T140000
DTEND;TZID=America/Chicago:20250903T153000
DTSTAMP:20260423T062225
CREATED:20250218T175620Z
LAST-MODIFIED:20250218T175620Z
UID:580638-1756908000-1756913400@www.iccsafe.org
SUMMARY:Sustainability\, Energy\, & High Performing Buildings Code Action Committee Meeting
DESCRIPTION:Microsoft Teams meeting\nJoin on your computer\, mobile app or room device\nClick here to join the meeting\nMeeting ID: 288 149 167 277\nPasscode: jb2cKn \nOr call in (audio only)\n+1 469-848-0134\,\,518188610# United States\, Dallas\nPhone Conference ID: 518 188 610# \n2:00 PM – 3:00 PM EST
URL:https://www.iccsafe.org/news-and-events-calendar/sustainability-energy-high-performing-buildings-code-action-committee-meeting-8/
CATEGORIES:Codes & Standards Calendar
ORGANIZER;CN="Alex Smith":MAILTO:alsmith@iccsafe.org
END:VEVENT
BEGIN:VEVENT
DTSTART;TZID=America/New_York:20250903T140000
DTEND;TZID=America/New_York:20250903T153000
DTSTAMP:20260423T062225
CREATED:20250819T202823Z
LAST-MODIFIED:20250819T202823Z
UID:594757-1756908000-1756913400@www.iccsafe.org
SUMMARY:IECC Commercial Envelope and Embodied Carbon Subgroup Proponent Comment Meeting
DESCRIPTION:Microsoft Teams meetingClick here to join the meetingMeeting ID: 288 149 167 277Passcode: jb2cKnOr call in (audio only)+1 469-848-0134\,\,518188610#Phone Conference ID: 518 188 610# \nSeptember 3\, 2025 | 2:00 – 3:30 pm EDT. \nThe agenda will be posted at the meeting folder on theSustainability\, Energy & High Performance BuildingCode Action Committee (SEHPCAC) website.
URL:https://www.iccsafe.org/news-and-events-calendar/iecc-commercial-envelope-and-embodied-carbon-subgroup-proponent-comment-meeting/
CATEGORIES:Codes & Standards Calendar
END:VEVENT
BEGIN:VEVENT
DTSTART;TZID=America/Chicago:20250903T150000
DTEND;TZID=America/Chicago:20250903T170000
DTSTAMP:20260423T062225
CREATED:20250818T205236Z
LAST-MODIFIED:20250818T205236Z
UID:594513-1756911600-1756918800@www.iccsafe.org
SUMMARY:Sustainability\, Energy & High Performance Building Code Action Committee (SEHPCAC)
DESCRIPTION:Microsoft Teams meetingClick here to join the meetingMeeting ID: 288 149 167 277Passcode: jb2cKnOr call in (audio only)+1 469-848-0134\,\,518188610#Phone Conference ID: 518 188 610# \nSeptember 3\, 2025 | 3pm EDT
URL:https://www.iccsafe.org/news-and-events-calendar/sustainability-energy-high-performance-building-code-action-committee-sehpcac/
CATEGORIES:Codes & Standards Calendar
END:VEVENT
BEGIN:VEVENT
DTSTART;TZID=America/New_York:20250908T110000
DTEND;TZID=America/New_York:20250908T130000
DTSTAMP:20260423T062225
CREATED:20250903T192033Z
LAST-MODIFIED:20250903T192033Z
UID:596117-1757329200-1757336400@www.iccsafe.org
SUMMARY:IECC Commercial Electrical Power Lighting and Renewables Subgroup Public Proponent Comment Meeting (IECC-C)
DESCRIPTION:Microsoft Teams MeetingLinkJoin the meeting nowOr call in (audio only)+1 469-848-0134\,\,428519006#Phone conference ID: 428 519 006#
URL:https://www.iccsafe.org/news-and-events-calendar/iecc-commercial-electrical-power-lighting-and-renewables-subgroup-public-proponent-comment-meeting-iecc-c/
CATEGORIES:Codes & Standards Calendar
END:VEVENT
BEGIN:VEVENT
DTSTART;TZID=America/New_York:20250908T130000
DTEND;TZID=America/New_York:20250908T150000
DTSTAMP:20260423T062225
CREATED:20250903T192419Z
LAST-MODIFIED:20250903T192419Z
UID:596125-1757336400-1757343600@www.iccsafe.org
SUMMARY:IECC Commercial Modeling Whole Building Metrics and Zero Energy Subgroup Public Proponent Comment Meeting (IECC-C)
DESCRIPTION:Microsoft Teams Meeting LinkJoin the meeting nowOr call in (audio only)+1 469-848-0134\,\,699191534# United States\,SeagovillePhone conference ID: 699 191 534#
URL:https://www.iccsafe.org/news-and-events-calendar/iecc-commercial-modeling-whole-building-metrics-and-zero-energy-subgroup-public-proponent-comment-meeting-iecc-c/
CATEGORIES:Codes & Standards Calendar
END:VEVENT
BEGIN:VEVENT
DTSTART;TZID=America/New_York:20250909T110000
DTEND;TZID=America/New_York:20250909T130000
DTSTAMP:20260423T062225
CREATED:20250903T192240Z
LAST-MODIFIED:20250903T192240Z
UID:596123-1757415600-1757422800@www.iccsafe.org
SUMMARY:IECC Commercial Electrical Power Lighting and Renewables Subgroup Public Proponent Comment Meeting (IECC-C)
DESCRIPTION:Microsoft Teams MeetingLinkJoin the meeting nowOr call in (audio only)+1 469-848-0134\,\,116300047# United States\,SeagovillePhone conference ID: 116 300 047#
URL:https://www.iccsafe.org/news-and-events-calendar/iecc-commercial-electrical-power-lighting-and-renewables-subgroup-public-proponent-comment-meeting-iecc-c-2/
CATEGORIES:Codes & Standards Calendar
END:VEVENT
BEGIN:VEVENT
DTSTART;TZID=America/Chicago:20250915T140000
DTEND;TZID=America/Chicago:20250915T150000
DTSTAMP:20260423T062225
CREATED:20250416T173558Z
LAST-MODIFIED:20250416T173558Z
UID:585147-1757944800-1757948400@www.iccsafe.org
SUMMARY:Virtual CCC Monthly Meeting
DESCRIPTION:Microsoft Teams\nJoin the meeting now\nMeeting ID: 245 693 923 11\nPasscode: DZ2AH7Sa \n2:00 PM – 3:00 PM CT
URL:https://www.iccsafe.org/news-and-events-calendar/virtual-ccc-monthly-meeting-6/
CATEGORIES:Codes & Standards Calendar
END:VEVENT
BEGIN:VEVENT
DTSTART;TZID=America/Chicago:20250918T100000
DTEND;TZID=America/Chicago:20250918T113000
DTSTAMP:20260423T062225
CREATED:20241205T201019Z
LAST-MODIFIED:20241205T201019Z
UID:576859-1758189600-1758195000@www.iccsafe.org
SUMMARY:ICCPC (Performance Code)
DESCRIPTION:The purpose of this meeting is to develop a modern updated International Code-based option available to those interested in an updated performance based code. \nMicrosoft Teams meeting \nJoin on your computer\, mobile app or room device \nClick here to join the meeting \nMeeting ID: 259 268 394 168\nPasscode: sisZYx \nDownload Teams | Join on the web \nLearn More | Meeting options \n  \n10:00 Am – 11:30 AM CT
URL:https://www.iccsafe.org/news-and-events-calendar/iccpc-performance-code-9/
CATEGORIES:Codes & Standards Calendar
ORGANIZER;CN="Scott W. Adams":MAILTO:sadams@iccsafe.org
END:VEVENT
BEGIN:VEVENT
DTSTART;TZID=America/New_York:20250924T140000
DTEND;TZID=America/New_York:20250924T160000
DTSTAMP:20260423T062225
CREATED:20250818T203059Z
LAST-MODIFIED:20250818T203059Z
UID:594500-1758722400-1758729600@www.iccsafe.org
SUMMARY:Fire Code Action Committee Meeting
DESCRIPTION:Join Meeting\nMeeting ID: 291 075 106 411\nPasscode: Gm63Gf6u \n  \nSeptember 24\, 2025\n2 PM ET / 1 PM CT / 12 PM MT / 11 AM PT (2 hr.)
URL:https://www.iccsafe.org/news-and-events-calendar/fire-code-action-committee-meeting/
CATEGORIES:Codes & Standards Calendar
END:VEVENT
BEGIN:VEVENT
DTSTART;TZID=America/Chicago:20251001T140000
DTEND;TZID=America/Chicago:20251001T153000
DTSTAMP:20260423T062225
CREATED:20250218T182722Z
LAST-MODIFIED:20250218T182722Z
UID:580659-1759327200-1759332600@www.iccsafe.org
SUMMARY:Sustainability\, Energy\, & High Performing Buildings Code Action Committee Meeting
DESCRIPTION:Microsoft Teams meeting\nJoin on your computer\, mobile app or room device\nClick here to join the meeting\nMeeting ID: 288 149 167 277\nPasscode: jb2cKn \nOr call in (audio only)\n+1 469-848-0134\,\,518188610# United States\, Dallas\nPhone Conference ID: 518 188 610# \n2:00 PM – 3:00 PM EST
URL:https://www.iccsafe.org/news-and-events-calendar/sustainability-energy-high-performing-buildings-code-action-committee-meeting-11/
CATEGORIES:Codes & Standards Calendar
ORGANIZER;CN="Alex Smith":MAILTO:alsmith@iccsafe.org
END:VEVENT
BEGIN:VEVENT
DTSTART;TZID=America/New_York:20251001T140000
DTEND;TZID=America/New_York:20251001T153000
DTSTAMP:20260423T062225
CREATED:20250925T192928Z
LAST-MODIFIED:20250925T192928Z
UID:597750-1759327200-1759332600@www.iccsafe.org
SUMMARY:International Code Council Sustainability\, Energy & High Performance Building Code Action Committee Bi-Monthly Meeting
DESCRIPTION:Microsoft Teams meetingClick here to join the meetingMeeting ID: 288 149 167 277Passcode: jb2cKnOr call in (audio only)+1 469-848-0134\,\,518188610#Phone Conference ID: 518 188 610# \n  \nOctober 1\, 2025 | 2-3:30 pm EDT
URL:https://www.iccsafe.org/news-and-events-calendar/international-code-council-sustainability-energy-high-performance-building-code-action-committee-bi-monthly-meeting/
CATEGORIES:Codes & Standards Calendar
END:VEVENT
BEGIN:VEVENT
DTSTART;TZID=America/Chicago:20251008T140000
DTEND;TZID=America/Chicago:20251008T160000
DTSTAMP:20260423T062225
CREATED:20250818T203327Z
LAST-MODIFIED:20250818T203345Z
UID:594502-1759932000-1759939200@www.iccsafe.org
SUMMARY:Fire Code Action Committee Meeting (FCAC)
DESCRIPTION:Join Meeting\nMeeting ID: 291 075 106 411\nPasscode: Gm63Gf6u \n  \nOctober 8\, 2025\n2 PM ET / 1 PM CT / 12 PM MT / 11 AM PT (2 hr.)
URL:https://www.iccsafe.org/news-and-events-calendar/fire-code-action-committee-fcac/
CATEGORIES:Codes & Standards Calendar
END:VEVENT
BEGIN:VEVENT
DTSTART;TZID=America/New_York:20251008T143000
DTEND;TZID=America/New_York:20251008T160000
DTSTAMP:20260423T062225
CREATED:20250925T192712Z
LAST-MODIFIED:20250925T192712Z
UID:597747-1759933800-1759939200@www.iccsafe.org
SUMMARY:Sustainability\, Energy\, & High Performing Buildings Code Action Committee IgCC Workgroup Meeting
DESCRIPTION:Sustainability\, Energy & High Performance Building Code Action Committee (SEHPCAC) IgCC Workgroup Meeting \nMicrosoft Teams meetingClick here to join the meetingOr call in (audio only)+1 469-848-0134\,\,6075447# United States\, SeagovillePhone conference ID: 607 544 7# \nThe agenda will be posted at the meeting folder on the Sustainability\, Energy & High Performance Building Code Action Committee (SEHPCAC) website. \n  \nOctober 8\, 2025 | 2:30 – 4:00 pm EDT
URL:https://www.iccsafe.org/news-and-events-calendar/sustainability-energy-high-performing-buildings-code-action-committee-igcc-workgroup-meeting/
CATEGORIES:Codes & Standards Calendar
END:VEVENT
BEGIN:VEVENT
DTSTART;TZID=America/Chicago:20251016T100000
DTEND;TZID=America/Chicago:20251016T113000
DTSTAMP:20260423T062225
CREATED:20241205T201204Z
LAST-MODIFIED:20241205T201204Z
UID:576861-1760608800-1760614200@www.iccsafe.org
SUMMARY:ICCPC (Performance Code)
DESCRIPTION:The purpose of this meeting is to develop a modern updated International Code-based option available to those interested in an updated performance based code. \nMicrosoft Teams meeting \nJoin on your computer\, mobile app or room device \nClick here to join the meeting \nMeeting ID: 259 268 394 168\nPasscode: sisZYx \nDownload Teams | Join on the web \nLearn More | Meeting options \n  \n10:00 Am – 11:30 AM CT
URL:https://www.iccsafe.org/news-and-events-calendar/iccpc-performance-code-10/
CATEGORIES:Codes & Standards Calendar
ORGANIZER;CN="Scott W. Adams":MAILTO:sadams@iccsafe.org
END:VEVENT
BEGIN:VEVENT
DTSTART;TZID=America/Chicago:20251020T140000
DTEND;TZID=America/Chicago:20251020T150000
DTSTAMP:20260423T062225
CREATED:20250416T173828Z
LAST-MODIFIED:20250416T173828Z
UID:585150-1760968800-1760972400@www.iccsafe.org
SUMMARY:Virtual CCC Monthly Meeting
DESCRIPTION:Microsoft Teams\nJoin the meeting now\nMeeting ID: 245 693 923 11\nPasscode: DZ2AH7Sa \n2:00 PM – 3:00 PM CT
URL:https://www.iccsafe.org/news-and-events-calendar/virtual-ccc-monthly-meeting-7/
CATEGORIES:Codes & Standards Calendar
END:VEVENT
BEGIN:VEVENT
DTSTART;TZID=America/New_York:20251022T140000
DTEND;TZID=America/New_York:20251022T160000
DTSTAMP:20260423T062225
CREATED:20250818T203858Z
LAST-MODIFIED:20250818T203858Z
UID:594505-1761141600-1761148800@www.iccsafe.org
SUMMARY:Fire Code Action Committee (FCAC)
DESCRIPTION:Click to Join Meeting \nMeeting ID: 291 075 106 411 \nPasscode: Gm63Gf6u \n  \nOctober 22\, 2025\n2 PM ET / 1 PM CT / 12 PM MT / 11 AM PT (2 hr.)
URL:https://www.iccsafe.org/news-and-events-calendar/fire-code-action-committee-fcac-2/
CATEGORIES:Codes & Standards Calendar
END:VEVENT
BEGIN:VEVENT
DTSTART;TZID=America/Chicago:20251105T140000
DTEND;TZID=America/Chicago:20251105T153000
DTSTAMP:20260423T062225
CREATED:20250218T182407Z
LAST-MODIFIED:20250218T182407Z
UID:580643-1762351200-1762356600@www.iccsafe.org
SUMMARY:Sustainability\, Energy\, & High Performing Buildings Code Action Committee Meeting
DESCRIPTION:Microsoft Teams meeting\nJoin on your computer\, mobile app or room device\nClick here to join the meeting\nMeeting ID: 288 149 167 277\nPasscode: jb2cKn \nOr call in (audio only)\n+1 469-848-0134\,\,518188610# United States\, Dallas\nPhone Conference ID: 518 188 610# \n2:00 PM – 3:00 PM EST
URL:https://www.iccsafe.org/news-and-events-calendar/sustainability-energy-high-performing-buildings-code-action-committee-meeting-9/
CATEGORIES:Codes & Standards Calendar
ORGANIZER;CN="Alex Smith":MAILTO:alsmith@iccsafe.org
END:VEVENT
BEGIN:VEVENT
DTSTART;TZID=America/New_York:20251112T140000
DTEND;TZID=America/New_York:20251112T160000
DTSTAMP:20260423T062225
CREATED:20250818T204142Z
LAST-MODIFIED:20250818T204142Z
UID:594507-1762956000-1762963200@www.iccsafe.org
SUMMARY:Fire Code Action Committee Meeting (FCAC)
DESCRIPTION:Click to Join Meeting \nMeeting ID: 291 075 106 411 \nPasscode: Gm63Gf6u \n  \nNovember 12\, 2025\n2 PM ET / 1 PM CT / 12 PM MT / 11 AM PT (2 hr.)
URL:https://www.iccsafe.org/news-and-events-calendar/fire-code-action-committee-meeting-fcac/
CATEGORIES:Codes & Standards Calendar
END:VEVENT
BEGIN:VEVENT
DTSTART;TZID=America/New_York:20251113T113000
DTEND;TZID=America/New_York:20251113T133000
DTSTAMP:20260423T062225
CREATED:20251106T170642Z
LAST-MODIFIED:20251106T170642Z
UID:604588-1763033400-1763040600@www.iccsafe.org
SUMMARY:Test Meeting
DESCRIPTION:Time and Date – Time Zone \nLink to the meeting \nLink to agenda
URL:https://www.iccsafe.org/news-and-events-calendar/test-meeting/
CATEGORIES:Codes & Standards Calendar
END:VEVENT
BEGIN:VEVENT
DTSTART;TZID=America/Chicago:20251117T140000
DTEND;TZID=America/Chicago:20251117T150000
DTSTAMP:20260423T062225
CREATED:20250416T174005Z
LAST-MODIFIED:20250416T174005Z
UID:585153-1763388000-1763391600@www.iccsafe.org
SUMMARY:Virtual CCC Monthly Meeting
DESCRIPTION:Microsoft Teams\nJoin the meeting now\nMeeting ID: 245 693 923 11\nPasscode: DZ2AH7Sa \n2:00 PM – 3:00 PM CT
URL:https://www.iccsafe.org/news-and-events-calendar/virtual-ccc-monthly-meeting-8/
CATEGORIES:Codes & Standards Calendar
END:VEVENT
BEGIN:VEVENT
DTSTART;TZID=America/New_York:20251119T143000
DTEND;TZID=America/New_York:20251119T160000
DTSTAMP:20260423T062225
CREATED:20251106T214733Z
LAST-MODIFIED:20251106T215013Z
UID:604597-1763562600-1763568000@www.iccsafe.org
SUMMARY:IgCC Workgroup Meeting (SEHPCAC)
DESCRIPTION:November 19\, 2025 \n2:30 PM to 4:00 PM EST \nMicrosoft Teams Meeting Link \nJoin the meeting now \nor call in (audio only) \n+1 469-848-0134\,\,6075447# United States\, Seagoville\nPhone conference ID: 607 544 7# \nFor further information be sure to visit the SEHPCAC landing page.
URL:https://www.iccsafe.org/news-and-events-calendar/igcc-workgroup-meeting-sehpcac/
CATEGORIES:Codes & Standards Calendar
END:VEVENT
BEGIN:VEVENT
DTSTART;TZID=America/Chicago:20251120T100000
DTEND;TZID=America/Chicago:20251120T123000
DTSTAMP:20260423T062225
CREATED:20241205T201440Z
LAST-MODIFIED:20241205T201440Z
UID:576863-1763632800-1763641800@www.iccsafe.org
SUMMARY:ICCPC (Performance Code)
DESCRIPTION:The purpose of this meeting is to develop a modern updated International Code-based option available to those interested in an updated performance based code. \nMicrosoft Teams meeting \nJoin on your computer\, mobile app or room device \nClick here to join the meeting \nMeeting ID: 259 268 394 168\nPasscode: sisZYx \nDownload Teams | Join on the web \nLearn More | Meeting options \n  \n10:00 Am – 11:30 AM CT
URL:https://www.iccsafe.org/news-and-events-calendar/iccpc-performance-code-11/
CATEGORIES:Codes & Standards Calendar
ORGANIZER;CN="Scott W. Adams":MAILTO:sadams@iccsafe.org
END:VEVENT
BEGIN:VEVENT
DTSTART;TZID=America/New_York:20251126T140000
DTEND;TZID=America/New_York:20251126T160000
DTSTAMP:20260423T062225
CREATED:20250818T204318Z
LAST-MODIFIED:20250818T204318Z
UID:594509-1764165600-1764172800@www.iccsafe.org
SUMMARY:Fire Code Action Committee Meeting (FCAC)
DESCRIPTION:Click to Join Meeting \nMeeting ID: 291 075 106 411 \nPasscode: Gm63Gf6u \n  \nNovember 26\, 2025\n2 PM ET / 1 PM CT / 12 PM MT / 11 AM PT (2 hr.)
URL:https://www.iccsafe.org/news-and-events-calendar/fire-code-action-committee-meeting-fcac-2/
CATEGORIES:Codes & Standards Calendar
END:VEVENT
BEGIN:VEVENT
DTSTART;TZID=America/Chicago:20251203T140000
DTEND;TZID=America/Chicago:20251203T153000
DTSTAMP:20260423T062225
CREATED:20250218T182547Z
LAST-MODIFIED:20250218T182547Z
UID:580656-1764770400-1764775800@www.iccsafe.org
SUMMARY:Sustainability\, Energy\, & High Performing Buildings Code Action Committee Meeting
DESCRIPTION:Microsoft Teams meeting\nJoin on your computer\, mobile app or room device\nClick here to join the meeting\nMeeting ID: 288 149 167 277\nPasscode: jb2cKn \nOr call in (audio only)\n+1 469-848-0134\,\,518188610# United States\, Dallas\nPhone Conference ID: 518 188 610# \n2:00 PM – 3:00 PM EST
URL:https://www.iccsafe.org/news-and-events-calendar/sustainability-energy-high-performing-buildings-code-action-committee-meeting-10/
CATEGORIES:Codes & Standards Calendar
ORGANIZER;CN="Alex Smith":MAILTO:alsmith@iccsafe.org
END:VEVENT
BEGIN:VEVENT
DTSTART;TZID=America/New_York:20251210T140000
DTEND;TZID=America/New_York:20251210T160000
DTSTAMP:20260423T062225
CREATED:20250818T204435Z
LAST-MODIFIED:20250818T204435Z
UID:594511-1765375200-1765382400@www.iccsafe.org
SUMMARY:Fire Code Action Committee Meeting (FCAC)
DESCRIPTION:Click to Join Meeting \nMeeting ID: 291 075 106 411 \nPasscode: Gm63Gf6u \n  \nDecember 10\, 2025\n2 PM ET / 1 PM CT / 12 PM MT / 11 AM PT (2 hr.)
URL:https://www.iccsafe.org/news-and-events-calendar/fire-code-action-committee-meeting-fcac-3/
CATEGORIES:Codes & Standards Calendar
END:VEVENT
END:VCALENDAR