BEGIN:VCALENDAR
VERSION:2.0
PRODID:-//ICC - ECPv6.15.17.1//NONSGML v1.0//EN
CALSCALE:GREGORIAN
METHOD:PUBLISH
X-ORIGINAL-URL:https://www.iccsafe.org
X-WR-CALDESC:Events for ICC
REFRESH-INTERVAL;VALUE=DURATION:PT1H
X-Robots-Tag:noindex
X-PUBLISHED-TTL:PT1H
BEGIN:VTIMEZONE
TZID:America/Chicago
BEGIN:DAYLIGHT
TZOFFSETFROM:-0600
TZOFFSETTO:-0500
TZNAME:CDT
DTSTART:20230312T080000
END:DAYLIGHT
BEGIN:STANDARD
TZOFFSETFROM:-0500
TZOFFSETTO:-0600
TZNAME:CST
DTSTART:20231105T070000
END:STANDARD
BEGIN:DAYLIGHT
TZOFFSETFROM:-0600
TZOFFSETTO:-0500
TZNAME:CDT
DTSTART:20240310T080000
END:DAYLIGHT
BEGIN:STANDARD
TZOFFSETFROM:-0500
TZOFFSETTO:-0600
TZNAME:CST
DTSTART:20241103T070000
END:STANDARD
BEGIN:DAYLIGHT
TZOFFSETFROM:-0600
TZOFFSETTO:-0500
TZNAME:CDT
DTSTART:20250309T080000
END:DAYLIGHT
BEGIN:STANDARD
TZOFFSETFROM:-0500
TZOFFSETTO:-0600
TZNAME:CST
DTSTART:20251102T070000
END:STANDARD
END:VTIMEZONE
BEGIN:VTIMEZONE
TZID:America/New_York
BEGIN:DAYLIGHT
TZOFFSETFROM:-0500
TZOFFSETTO:-0400
TZNAME:EDT
DTSTART:20230312T070000
END:DAYLIGHT
BEGIN:STANDARD
TZOFFSETFROM:-0400
TZOFFSETTO:-0500
TZNAME:EST
DTSTART:20231105T060000
END:STANDARD
BEGIN:DAYLIGHT
TZOFFSETFROM:-0500
TZOFFSETTO:-0400
TZNAME:EDT
DTSTART:20240310T070000
END:DAYLIGHT
BEGIN:STANDARD
TZOFFSETFROM:-0400
TZOFFSETTO:-0500
TZNAME:EST
DTSTART:20241103T060000
END:STANDARD
BEGIN:DAYLIGHT
TZOFFSETFROM:-0500
TZOFFSETTO:-0400
TZNAME:EDT
DTSTART:20250309T070000
END:DAYLIGHT
BEGIN:STANDARD
TZOFFSETFROM:-0400
TZOFFSETTO:-0500
TZNAME:EST
DTSTART:20251102T060000
END:STANDARD
END:VTIMEZONE
BEGIN:VEVENT
DTSTART;TZID=America/Chicago:20240205T130000
DTEND;TZID=America/Chicago:20240205T150000
DTSTAMP:20260422T034247
CREATED:20240118T220309Z
LAST-MODIFIED:20240118T220309Z
UID:554232-1707138000-1707145200@www.iccsafe.org
SUMMARY:ICC 605 IS-MHRRC Committee Meeting Multi-Hazard Resiliency for Residential Construction (IS-MHRRC) Committee
DESCRIPTION:The purpose of this virtual meeting is for the IS-MHRRC committee to discuss the development of the new ICC 605 standard. \n1:00 p.m. – 3:00 p.m. CST \nMicrosoft Teams meeting\nJoin on your computer\, mobile app or room device\nMeeting ID: 222 290 556 345\nPasscode: GJvyoo  \nOr call in (audio only)\n+1 469-848-0134\,\,404942175#   United States\, Dallas\nPhone Conference ID: 404 942 175#
URL:https://www.iccsafe.org/news-and-events-calendar/icc-605-is-mhrrc-committee-meeting-multi-hazard-resiliency-for-residential-construction-is-mhrrc-committee/
CATEGORIES:Codes & Standards Calendar
ORGANIZER;CN="Keith Enstrom":MAILTO:kenstrom@iccsafe.org
END:VEVENT
BEGIN:VEVENT
DTSTART;TZID=America/New_York:20240207T140000
DTEND;TZID=America/New_York:20240207T150000
DTSTAMP:20260422T034247
CREATED:20231113T204812Z
LAST-MODIFIED:20231116T183844Z
UID:550059-1707314400-1707318000@www.iccsafe.org
SUMMARY:Sustainability\, Energy\, & High Performing Buildings Code Action Committee Meeting
DESCRIPTION:2:00 pm- 3:00 pm EST \nMicrosoft Teams meeting \nJoin on your computer\, mobile app or room device \nClick here to join the meeting \nMeeting ID: 288 149 167 277\nPasscode: jb2cKn \nDownload Teams | Join on the web \nOr call in (audio only) \n+1 469-848-0134\,\,518188610#   United States\, Dallas \nPhone Conference ID: 518 188 610# \nFind a local number | Reset PIN
URL:https://www.iccsafe.org/news-and-events-calendar/webinar-part-1-sustainability-energy-high-performing-buildings-code-action-committee-meeting/
CATEGORIES:Codes & Standards Calendar
ORGANIZER;CN="Kristopher Stenger":MAILTO:kstenger@iccsafe.org
END:VEVENT
BEGIN:VEVENT
DTSTART;TZID=America/Chicago:20240208T100000
DTEND;TZID=America/Chicago:20240208T120000
DTSTAMP:20260422T034247
CREATED:20240104T153405Z
LAST-MODIFIED:20240104T153405Z
UID:553387-1707386400-1707393600@www.iccsafe.org
SUMMARY:ICCPC Meeting
DESCRIPTION:Performance Code Consensus Committee \n10:00 a.m – 12:00 p.m. CT \nThe purpose of this virtual meeting is for the ICCPC committee to discuss the development of the new ICCPC standard. \n  \nMicrosoft Teams meeting \nJoin on your computer\, mobile app or room device \nClick here to join the meeting \nMeeting ID: 271 305 006 277\nPasscode: nBD2Sa \nDownload Teams | Join on the web \nLearn More | Meeting options
URL:https://www.iccsafe.org/news-and-events-calendar/iccpc-meeting-2/
CATEGORIES:Codes & Standards Calendar
ORGANIZER;CN="Scott W. Adams":MAILTO:sadams@iccsafe.org
END:VEVENT
END:VCALENDAR