BEGIN:VCALENDAR
VERSION:2.0
PRODID:-//ICC - ECPv6.15.17.1//NONSGML v1.0//EN
CALSCALE:GREGORIAN
METHOD:PUBLISH
X-ORIGINAL-URL:https://www.iccsafe.org
X-WR-CALDESC:Events for ICC
REFRESH-INTERVAL;VALUE=DURATION:PT1H
X-Robots-Tag:noindex
X-PUBLISHED-TTL:PT1H
BEGIN:VTIMEZONE
TZID:America/Chicago
BEGIN:DAYLIGHT
TZOFFSETFROM:-0600
TZOFFSETTO:-0500
TZNAME:CDT
DTSTART:20240310T080000
END:DAYLIGHT
BEGIN:STANDARD
TZOFFSETFROM:-0500
TZOFFSETTO:-0600
TZNAME:CST
DTSTART:20241103T070000
END:STANDARD
BEGIN:DAYLIGHT
TZOFFSETFROM:-0600
TZOFFSETTO:-0500
TZNAME:CDT
DTSTART:20250309T080000
END:DAYLIGHT
BEGIN:STANDARD
TZOFFSETFROM:-0500
TZOFFSETTO:-0600
TZNAME:CST
DTSTART:20251102T070000
END:STANDARD
BEGIN:DAYLIGHT
TZOFFSETFROM:-0600
TZOFFSETTO:-0500
TZNAME:CDT
DTSTART:20260308T080000
END:DAYLIGHT
BEGIN:STANDARD
TZOFFSETFROM:-0500
TZOFFSETTO:-0600
TZNAME:CST
DTSTART:20261101T070000
END:STANDARD
END:VTIMEZONE
BEGIN:VEVENT
DTSTART;VALUE=DATE:20250224
DTEND;VALUE=DATE:20250301
DTSTAMP:20260423T020222
CREATED:20241104T181259Z
LAST-MODIFIED:20241104T182231Z
UID:574171-1740355200-1740787199@www.iccsafe.org
SUMMARY:EduCODE 2025
DESCRIPTION:On behalf of the Southern Nevada Chapter of the International Code Council\, we welcome you to our 28th year of providing outstanding educational programs. EduCODE is designed to provide the premier educational training in the country along with several networking opportunities to provide the best overall experience. EduCODE provides nationally acclaimed instructors\, daytime and evening networking opportunities through the week\, industry representatives showcasing their latest products\, technology and services at our daily expo\, and a staff that will provide outstanding customer service to make your visit beneficial\, fun\, and rewarding. \nWhere can you choose from over 150 classes both in person and online\, each ICC Preferred Provider certified? Where can you brainstorm with instructors\, building\, fire and code enforcement professionals\, students and staff\, and have fun while learning? EduCODE 2025: that’s where! Whether you attend for one day or for the entire week\, virtually or in person\, we are certain that you will have an exceptional experience that you will never forget. \nLive at the Orleans Hotel and Virtual.  \nRegister here.  \nLearn more here.
URL:https://www.iccsafe.org/news-and-events-calendar/educode-2025/
LOCATION:4500 West Tropicana Avenue • Las Vegas\, NV 89103\, 4500 West Tropicana Avenue\, Las Vegas\, NV\, 89103\, United States
CATEGORIES:Education Calendar
END:VEVENT
BEGIN:VEVENT
DTSTART;TZID=America/Chicago:20250224T110000
DTEND;TZID=America/Chicago:20250224T130000
DTSTAMP:20260423T020222
CREATED:20250210T171732Z
LAST-MODIFIED:20250210T171732Z
UID:579843-1740394800-1740402000@www.iccsafe.org
SUMMARY:2025 ICC Code Correlation Committee (CCC) Meeting
DESCRIPTION:Virtual – Group B Editorial Review and Group A Correlation – AS NEEDED \nJoin the meeting now\nMeeting ID: 241 870 927 562\nPasscode: 3k964R3D\nDial in by phone \n+1 469-848-0134\,\,261784898# United States\, Seagoville\nPhone conference ID: 261 784 898# \n11:00 AM – 1:00 PM EST
URL:https://www.iccsafe.org/news-and-events-calendar/2025-icc-code-correlation-committee-ccc-meeting-3/
CATEGORIES:Codes & Standards Calendar
END:VEVENT
BEGIN:VEVENT
DTSTART;TZID=America/Chicago:20250225T140000
DTEND;TZID=America/Chicago:20250225T170000
DTSTAMP:20260423T020222
CREATED:20250213T153643Z
LAST-MODIFIED:20250213T153643Z
UID:580161-1740492000-1740502800@www.iccsafe.org
SUMMARY:IECC Residential Consensus Committee Meeting
DESCRIPTION:Microsoft Teams\nJoin the meeting now\nMeeting ID: 292 549 521 570\nPasscode: 6St7hk7x\nDial in by phone\n+1 469-848-0134\,\,713350603# United States\, Seagoville\nPhone conference ID: 713 350 603#  \n2:00 PM – 5:00 PM EDT
URL:https://www.iccsafe.org/news-and-events-calendar/iecc-residential-consensus-committee-meeting-5/
CATEGORIES:Codes & Standards Calendar
ORGANIZER;CN="Alex Smith":MAILTO:alsmith@iccsafe.org
END:VEVENT
BEGIN:VEVENT
DTSTART;TZID=America/Chicago:20250225T150000
DTEND;TZID=America/Chicago:20250225T163000
DTSTAMP:20260423T020222
CREATED:20250207T192607Z
LAST-MODIFIED:20250207T192607Z
UID:579745-1740495600-1740501000@www.iccsafe.org
SUMMARY:Global Membership Council\, 1st Quarter Meeting
DESCRIPTION:Register here.
URL:https://www.iccsafe.org/news-and-events-calendar/global-membership-council-1st-quarter-meeting/
CATEGORIES:Membership Councils
END:VEVENT
BEGIN:VEVENT
DTSTART;TZID=America/Chicago:20250226T130000
DTEND;TZID=America/Chicago:20250226T130000
DTSTAMP:20260423T020222
CREATED:20250207T192958Z
LAST-MODIFIED:20250207T192958Z
UID:579747-1740574800-1740574800@www.iccsafe.org
SUMMARY:Fire Code Action Committee (FCAC) Meeting
DESCRIPTION:Microsoft Teams \nJoin the meeting now \nMeeting ID: 278 261 619 559 \nPasscode: GZ6vd7js
URL:https://www.iccsafe.org/news-and-events-calendar/fire-code-action-committee-fcac-meeting/
CATEGORIES:Codes & Standards Calendar
ORGANIZER;CN="Scott W. Adams":MAILTO:sadams@iccsafe.org
END:VEVENT
END:VCALENDAR