BEGIN:VCALENDAR
VERSION:2.0
PRODID:-//ICC - ECPv6.15.17.1//NONSGML v1.0//EN
CALSCALE:GREGORIAN
METHOD:PUBLISH
X-WR-CALNAME:ICC
X-ORIGINAL-URL:https://www.iccsafe.org
X-WR-CALDESC:Events for ICC
REFRESH-INTERVAL;VALUE=DURATION:PT1H
X-Robots-Tag:noindex
X-PUBLISHED-TTL:PT1H
BEGIN:VTIMEZONE
TZID:America/Chicago
BEGIN:DAYLIGHT
TZOFFSETFROM:-0600
TZOFFSETTO:-0500
TZNAME:CDT
DTSTART:20240310T080000
END:DAYLIGHT
BEGIN:STANDARD
TZOFFSETFROM:-0500
TZOFFSETTO:-0600
TZNAME:CST
DTSTART:20241103T070000
END:STANDARD
BEGIN:DAYLIGHT
TZOFFSETFROM:-0600
TZOFFSETTO:-0500
TZNAME:CDT
DTSTART:20250309T080000
END:DAYLIGHT
BEGIN:STANDARD
TZOFFSETFROM:-0500
TZOFFSETTO:-0600
TZNAME:CST
DTSTART:20251102T070000
END:STANDARD
BEGIN:DAYLIGHT
TZOFFSETFROM:-0600
TZOFFSETTO:-0500
TZNAME:CDT
DTSTART:20260308T080000
END:DAYLIGHT
BEGIN:STANDARD
TZOFFSETFROM:-0500
TZOFFSETTO:-0600
TZNAME:CST
DTSTART:20261101T070000
END:STANDARD
END:VTIMEZONE
BEGIN:VEVENT
DTSTART;TZID=America/Chicago:20250408T110000
DTEND;TZID=America/Chicago:20250408T130000
DTSTAMP:20260422T164827
CREATED:20250327T150108Z
LAST-MODIFIED:20250327T150108Z
UID:583331-1744110000-1744117200@www.iccsafe.org
SUMMARY:Special Inspections
DESCRIPTION:This webinar provides a general overview of Special Inspection from Chapter 17 of the International Building Code® (IBC®).  \nObjectives: Upon completion of this seminar\, participants will be better able to:\nDescribe the structural special inspections required in Chapter 17 of the IBC.\nIdentify the duties of the engineer of record.\nIdentify the tasks and required skills of the special inspector. \nRegister here.  \n11:00 AM – 1:00 PM PT
URL:https://www.iccsafe.org/news-and-events-calendar/special-inspections/
CATEGORIES:Education Calendar
ORGANIZER;CN="S. K. Ghosh Associates":MAILTO:kbhaumik@skghoshassociates.com
END:VEVENT
BEGIN:VEVENT
DTSTART;TZID=America/Chicago:20250408T120000
DTEND;TZID=America/Chicago:20250408T140000
DTSTAMP:20260422T164827
CREATED:20241219T161618Z
LAST-MODIFIED:20241219T161618Z
UID:577490-1744113600-1744120800@www.iccsafe.org
SUMMARY:Plumbing\, Mechanical and Fuel Gas Code Action Committee Meeting
DESCRIPTION:Discussion of topics for PMGCAC proposals\n\n\n\n  \nMeeting Link: \nJoin the meeting now\nOR \nDial in by phone \n1-469-848-0134 \nPhone conference ID: 914 374 938# \n12:00 PM – 2:00 PM EST
URL:https://www.iccsafe.org/news-and-events-calendar/plumbing-mechanical-and-fuel-gas-code-action-committee-meeting-5/
CATEGORIES:Codes & Standards Calendar
ORGANIZER;CN="Fred Grable":MAILTO:fgrable@iccsafe.org
END:VEVENT
BEGIN:VEVENT
DTSTART;TZID=America/Chicago:20250408T130000
DTEND;TZID=America/Chicago:20250408T143000
DTSTAMP:20260422T164827
CREATED:20250402T202421Z
LAST-MODIFIED:20250402T202421Z
UID:584135-1744117200-1744122600@www.iccsafe.org
SUMMARY:Industry Advisory Committee (IAC) Meeting
DESCRIPTION:Committee Page:  https://www.iccsafe.org/committees/iac/ \nMeeting Information:\nJoin the meeting now \nMeeting ID: 216 466 562 445  \n1:00 PM – 2:30 PM ET
URL:https://www.iccsafe.org/news-and-events-calendar/industry-advisory-committee-iac-meeting/
END:VEVENT
BEGIN:VEVENT
DTSTART;TZID=America/Chicago:20250408T140000
DTEND;TZID=America/Chicago:20250408T170000
DTSTAMP:20260422T164827
CREATED:20250214T180039Z
LAST-MODIFIED:20250214T180039Z
UID:580237-1744120800-1744131600@www.iccsafe.org
SUMMARY:IECC Residential Consensus Committee Meeting
DESCRIPTION:Microsoft Teams\nJoin the meeting now\nMeeting ID: 292 549 521 570\nPasscode: 6St7hk7x\nDial in by phone\n+1 469-848-0134\,\,713350603# United States\, Seagoville\nPhone conference ID: 713 350 603# \n2:00 PM – 5:00 PM EDT
URL:https://www.iccsafe.org/news-and-events-calendar/iecc-residential-consensus-committee-meeting-27/
CATEGORIES:Codes & Standards Calendar
ORGANIZER;CN="Alex Smith":MAILTO:alsmith@iccsafe.org
END:VEVENT
BEGIN:VEVENT
DTSTART;TZID=America/Chicago:20250409T140000
DTEND;TZID=America/Chicago:20250409T160000
DTSTAMP:20260422T164827
CREATED:20250213T150706Z
LAST-MODIFIED:20250213T150706Z
UID:580149-1744207200-1744214400@www.iccsafe.org
SUMMARY:IECC Commercial Consensus Committee Meeting
DESCRIPTION:Microsoft Teams\nJoin the meeting now\nMeeting ID: 213 715 837 318\nPasscode: Z8Wm6yy3\nDial in by phone\n+1 469-848-0134\,\,739591542# United States\, Seagoville\nPhone conference ID: 739 591 542# \n2:00 PM – 4:00 PM EST
URL:https://www.iccsafe.org/news-and-events-calendar/iecc-commercial-consensus-committee-meeting-30/
CATEGORIES:Codes & Standards Calendar
ORGANIZER;CN="Alex Smith":MAILTO:alsmith@iccsafe.org
END:VEVENT
BEGIN:VEVENT
DTSTART;TZID=America/Chicago:20250410T110000
DTEND;TZID=America/Chicago:20250410T133000
DTSTAMP:20260422T164827
CREATED:20250327T173632Z
LAST-MODIFIED:20250327T173632Z
UID:583341-1744282800-1744291800@www.iccsafe.org
SUMMARY:Designing to Minimize Restraint to Shortening Cracks in Post-Tensioned Structures
DESCRIPTION:Two of the main financial benefits of post-tensioning is the reduction in slab thickness and rebar compared to non-prestressed slabs. The downside side of this reduction is post-tensioned structures can be more susceptible cracking\, especially if their inherent movement is prevented or restrained. The webinar will cover the structural layout and details that are primarily used in the post-tensioned structures to minimize restraint to shortening (RTS) cracks. Typical post-tensioning slip details will be explained in conjunction with construction photographs to highlight good and poor construction practices. \nRegister here.  \n11:00 AM – 1:30 PM PT
URL:https://www.iccsafe.org/news-and-events-calendar/designing-to-minimize-restraint-to-shortening-cracks-in-post-tensioned-structures/
CATEGORIES:Education Calendar
ORGANIZER;CN="S. K. Ghosh Associates":MAILTO:kbhaumik@skghoshassociates.com
END:VEVENT
END:VCALENDAR