BEGIN:VCALENDAR
VERSION:2.0
PRODID:-//ICC - ECPv6.15.17//NONSGML v1.0//EN
CALSCALE:GREGORIAN
METHOD:PUBLISH
X-WR-CALNAME:ICC
X-ORIGINAL-URL:https://www.iccsafe.org
X-WR-CALDESC:Events for ICC
REFRESH-INTERVAL;VALUE=DURATION:PT1H
X-Robots-Tag:noindex
X-PUBLISHED-TTL:PT1H
BEGIN:VTIMEZONE
TZID:America/Chicago
BEGIN:DAYLIGHT
TZOFFSETFROM:-0600
TZOFFSETTO:-0500
TZNAME:CDT
DTSTART:20240310T080000
END:DAYLIGHT
BEGIN:STANDARD
TZOFFSETFROM:-0500
TZOFFSETTO:-0600
TZNAME:CST
DTSTART:20241103T070000
END:STANDARD
BEGIN:DAYLIGHT
TZOFFSETFROM:-0600
TZOFFSETTO:-0500
TZNAME:CDT
DTSTART:20250309T080000
END:DAYLIGHT
BEGIN:STANDARD
TZOFFSETFROM:-0500
TZOFFSETTO:-0600
TZNAME:CST
DTSTART:20251102T070000
END:STANDARD
BEGIN:DAYLIGHT
TZOFFSETFROM:-0600
TZOFFSETTO:-0500
TZNAME:CDT
DTSTART:20260308T080000
END:DAYLIGHT
BEGIN:STANDARD
TZOFFSETFROM:-0500
TZOFFSETTO:-0600
TZNAME:CST
DTSTART:20261101T070000
END:STANDARD
END:VTIMEZONE
BEGIN:VEVENT
DTSTART;TZID=America/Chicago:20251028T130000
DTEND;TZID=America/Chicago:20251028T193000
DTSTAMP:20260421T031810
CREATED:20250912T201217Z
LAST-MODIFIED:20250912T201217Z
UID:597035-1761656400-1761679800@www.iccsafe.org
SUMMARY:Continuing Professional Education for Texas Plumbers (2025) - NT (Live In-Person)
DESCRIPTION:This course includes the 6 hours of continuing education required by the TSBPE to renew plumbing licenses in Texas (Master\, Journeyman\, Tradesman\, or Apprentice with endorsements). \n\nObjectives\n\nExplain the most important IPC provisions related to water supply & distribution.\nExplain the most important IFGC provisions related to gas piping materials & tables.\nDescribe emerging challenges for businesses\, especially in the plumbing industry.\nDescribe the basics of professional awareness as a strategy for construction safety.\nExplain recent development and issues related to plumbing regulation in Texas.\nExplain the most important IPC provisions related to vents.
URL:https://www.iccsafe.org/news-and-events-calendar/continuing-professional-education-for-texas-plumbers-2025-nt-live-in-person-5/
LOCATION:Fairfield by Marriott Dallas – Crossroad of Terrell\, 351 Market Center Dr.\, Terrell\, TX\, 75160
CATEGORIES:Education Calendar
ORGANIZER;CN="ICC Training":MAILTO:learn@iccsafe.org
END:VEVENT
BEGIN:VEVENT
DTSTART;TZID=America/Chicago:20251028T100000
DTEND;TZID=America/Chicago:20251028T120000
DTSTAMP:20260421T031810
CREATED:20250912T201030Z
LAST-MODIFIED:20250912T201030Z
UID:597033-1761645600-1761652800@www.iccsafe.org
SUMMARY:Medical Gas Continuing Education for Texas Plumbers (Live In-Person)
DESCRIPTION:This course includes the 2 hours of continuing education required by the TSBPE to renew the medical gas endorsement on plumbing licenses in Texas (Inspector\, Master\, Journeyman). \n\nObjectives\n\nExplain recent changes in Chapter 3 of NFPA 99 (2024).\nExplain recent changes in Chapter 5 of NFPA 99 (2024).\nExplain recent changes in Chapter 15 of NFPA 99 (2024).\nDescribe the most important (unchanged) provisions of NFPA 99 (2024).
URL:https://www.iccsafe.org/news-and-events-calendar/medical-gas-continuing-education-for-texas-plumbers-live-in-person-7/
LOCATION:Fairfield by Marriott Dallas – Crossroad of Terrell\, 351 Market Center Dr.\, Terrell\, TX\, 75160
CATEGORIES:Education Calendar
ORGANIZER;CN="ICC Training":MAILTO:learn@iccsafe.org
END:VEVENT
BEGIN:VEVENT
DTSTART;TZID=America/Chicago:20250917T080000
DTEND;TZID=America/Chicago:20250917T143000
DTSTAMP:20260421T031810
CREATED:20250902T201438Z
LAST-MODIFIED:20250902T201438Z
UID:596043-1758096000-1758119400@www.iccsafe.org
SUMMARY:Continuing Professional Education for Texas Plumbers (2025) - NT (Live In-Person)
DESCRIPTION:This course includes the 6 hours of continuing education required by the TSBPE to renew plumbing licenses in Texas (Master\, Journeyman\, Tradesman\, or Apprentice with endorsements). \n\nObjectives\n\nExplain the most important IPC provisions related to water supply & distribution.\nExplain the most important IFGC provisions related to gas piping materials & tables.\nDescribe emerging challenges for businesses\, especially in the plumbing industry.\nDescribe the basics of professional awareness as a strategy for construction safety.\nExplain recent development and issues related to plumbing regulation in Texas.\nExplain the most important IPC provisions related to vents.
URL:https://www.iccsafe.org/news-and-events-calendar/continuing-professional-education-for-texas-plumbers-2025-nt-live-in-person-2/
LOCATION:Fairfield by Marriott Dallas – Crossroad of Terrell\, 351 Market Center Dr.\, Terrell\, TX\, 75160
CATEGORIES:Education Calendar
ORGANIZER;CN="ICC Training":MAILTO:learn@iccsafe.org
END:VEVENT
END:VCALENDAR